BEGIN:VCALENDAR
VERSION:2.0
PRODID:-//Association AIEPPFP - ECPv6.15.20//NONSGML v1.0//EN
CALSCALE:GREGORIAN
METHOD:PUBLISH
X-ORIGINAL-URL:https://aiepp.fr
X-WR-CALDESC:Évènements pour Association AIEPPFP
REFRESH-INTERVAL;VALUE=DURATION:PT1H
X-Robots-Tag:noindex
X-PUBLISHED-TTL:PT1H
BEGIN:VTIMEZONE
TZID:Europe/Paris
BEGIN:DAYLIGHT
TZOFFSETFROM:+0100
TZOFFSETTO:+0200
TZNAME:CEST
DTSTART:20240331T010000
END:DAYLIGHT
BEGIN:STANDARD
TZOFFSETFROM:+0200
TZOFFSETTO:+0100
TZNAME:CET
DTSTART:20241027T010000
END:STANDARD
BEGIN:DAYLIGHT
TZOFFSETFROM:+0100
TZOFFSETTO:+0200
TZNAME:CEST
DTSTART:20250330T010000
END:DAYLIGHT
BEGIN:STANDARD
TZOFFSETFROM:+0200
TZOFFSETTO:+0100
TZNAME:CET
DTSTART:20251026T010000
END:STANDARD
BEGIN:DAYLIGHT
TZOFFSETFROM:+0100
TZOFFSETTO:+0200
TZNAME:CEST
DTSTART:20260329T010000
END:DAYLIGHT
BEGIN:STANDARD
TZOFFSETFROM:+0200
TZOFFSETTO:+0100
TZNAME:CET
DTSTART:20261025T010000
END:STANDARD
END:VTIMEZONE
BEGIN:VEVENT
DTSTART;TZID=Europe/Paris:20250811T190000
DTEND;TZID=Europe/Paris:20250811T210000
DTSTAMP:20260422T044850
CREATED:20250811T085721Z
LAST-MODIFIED:20250813T095839Z
UID:11487-1754938800-1754946000@aiepp.fr
SUMMARY:Concert du 11 août 2025
DESCRIPTION:PROGRAMME CONCERT A LAIN LE 11 AOUT \nLes peintures exposées sont de Eliane Lebaron \n\nArcangelo Corelli (1653-1713) sonata da camera opus 4 n°9 preludio corrente\n\nKurt Dutré\, flûte à bec\, Jane Oldham\, violon\, Sylvie Berger\, violoncelle\, Marlies Stellmacher\, clavecin\n\n\nWolfgang Amadeus Mozart (1756-1791) : Duo pour violon et alto KV423 – 1er mouvement : allegro moderato\n\nJohannes Platz\, violon\, Tamara Jacubeit\, alto\n\n\nFranz Liszt (1811-1886) Consolation n°3\, version pour clarinette\, violoncelle et piano\n\nSylvie Berger\, clarinette\, Jean Barthe\, violoncelle\, Olivier Depreux\, piano\n\n\nWolfgang Amadeus Mozart (1756-1791) : Quatuor à cordes KV387 – 3ème mouvement : andante cantabile\n\nJohannes Platz et Sylvie Platz\, violons\, Tamara Jacubeit\, alto\, Oliver Brockhaus\, violoncelle\n\n\nCésar Franck (1822-1890) : Quintette pour piano et quatuor à cordes – 2ème mouvement : lenton con molto sentimento\n\nHélène Pierrakos\, piano\, Malina Mantcheva et Dirk Winkelmann\, violons\, Tamara Jacubeit\, alto\, Sophie Rudent\, violoncelle\n\n\nJoseph Haydn (1832-1809) : Quatuor à cordes opus 76 n°1\n\n1er mouvement : allegro con spirito\n2ème mouvement : adagio\nDirk Winkelmann et Johannes Platz\, violons\, Tamara Jacubeit\, alto\, Oliver Brockhaus\, violoncelle\n\n\nFranz Schubert (1797-1828) : Sonatine en ré pour piano et violon\n\n2ème mouvement : andante\n3ème mouvement : allegro vivace\nHélène Pierrakos\, piano et Johannes Platz\, violon\n\n\nJohannes Brahms (1833-1897) : Trio pour piano\, violon et cor\n\n3ème mouvement : adagio mesto Christian Binde\, cor\, Marlies Stellmacher\, piano\, Malina Mantcheva\, violon\n\n\nPetite fleur\, chanson de Sidney Bechett\n\nSylvie Platz\, chant\, Johannes Platz\, alto\, Olivier Depreux\, piano\n\n\nJohannes Brahms (1833-1897 ) : Sonate pour violon et piano opus 78\n\n1er mouvement : vivace ma non troppo\nDirk Winkelmann\, violon\, Jos Schloesser\, piano\n\n\nNature Boy\, chanson de Eden Ahbez\n\nSylvie et Johannes Platz\, chant\, Malina Mantcheva et Dirk Winkelmann\, violon\, Tamara Jacubeit\, alto\, Sophie Rudent et Oliver Brockhaus\, violoncelles
URL:https://aiepp.fr/agenda/concert-du-11-aout-2025/
CATEGORIES:Académie Thury 2025
END:VEVENT
END:VCALENDAR