BEGIN:VCALENDAR
VERSION:2.0
PRODID:-//Association AIEPPFP - ECPv6.15.20//NONSGML v1.0//EN
CALSCALE:GREGORIAN
METHOD:PUBLISH
X-WR-CALNAME:Association AIEPPFP
X-ORIGINAL-URL:https://aiepp.fr
X-WR-CALDESC:Évènements pour Association AIEPPFP
REFRESH-INTERVAL;VALUE=DURATION:PT1H
X-Robots-Tag:noindex
X-PUBLISHED-TTL:PT1H
BEGIN:VTIMEZONE
TZID:Europe/Paris
BEGIN:DAYLIGHT
TZOFFSETFROM:+0100
TZOFFSETTO:+0200
TZNAME:CEST
DTSTART:20240331T010000
END:DAYLIGHT
BEGIN:STANDARD
TZOFFSETFROM:+0200
TZOFFSETTO:+0100
TZNAME:CET
DTSTART:20241027T010000
END:STANDARD
BEGIN:DAYLIGHT
TZOFFSETFROM:+0100
TZOFFSETTO:+0200
TZNAME:CEST
DTSTART:20250330T010000
END:DAYLIGHT
BEGIN:STANDARD
TZOFFSETFROM:+0200
TZOFFSETTO:+0100
TZNAME:CET
DTSTART:20251026T010000
END:STANDARD
BEGIN:DAYLIGHT
TZOFFSETFROM:+0100
TZOFFSETTO:+0200
TZNAME:CEST
DTSTART:20260329T010000
END:DAYLIGHT
BEGIN:STANDARD
TZOFFSETFROM:+0200
TZOFFSETTO:+0100
TZNAME:CET
DTSTART:20261025T010000
END:STANDARD
END:VTIMEZONE
BEGIN:VEVENT
DTSTART;TZID=Europe/Paris:20250813T210000
DTEND;TZID=Europe/Paris:20250813T233000
DTSTAMP:20260422T044724
CREATED:20250810T181427Z
LAST-MODIFIED:20250813T100000Z
UID:11483-1755118800-1755127800@aiepp.fr
SUMMARY:Concert de clôture de l'Académie de Musique de Chambre de Thury
DESCRIPTION:PROGRAMME DU CONCERT de THURY LE 13 AOUT \n\nJohann Christian Schickhardt (1682-1762) : triosonate adagio-allegro-menuet\n\nMalina Mantcheva\, violon\, Kurt Dutré\, flûte à bec\, Marlies Stellmacher\, clavecin\n\n\n\n\nLudwig Van Beethoven (1770-1827) : quatuor avec piano opus 16 – andante cantabile-Rondo\, allegro non troppo\n\nJos Schloesser\, piano\, Jane Oldham\, violon\, Tamara Jacubeit\, alto\, Sophie Rudent\, violoncelle\n\n\n\n\nJohann Joaquim QUANTZ (1697-1773): sonate en ré majeur pour 3 flûtes – menuet-largo-vivace\n\n Trio de flûtes de la fanfare de Thury (Emmanuelle Delalandre-Camille Fredon-Marion Raspail)\n\n\nJohannes Brahms (1833-1897): sonate en mi mineur pour violoncelle et piano «allegro»\n\nJean Barthe\, violoncelle\, Jos Schloesser\, piano\n\n\nDimitri Schostakovitch (1906-1975): extraits des 5 pièces pour 2 violons et piano (extraits) Prélude-Gavotte-Valse\n\nMalina Mantcheva et Sylvie Platz\, violons\, Hélène Pierrakos\, piano\n\n\nLudwig Van Beethoven (1770-1827) Sonate pour violon et piano op.12 n°2 «allegro vivace»\n\nMarlies Steelmacher\, piano\, Malina Mantcheva\, violon\n\n\nHenry Mancini (1924-1994) «Pink Panther» version pour quatuor de violoncelles\n\nSophie Rudent\, Sylvie Berger\, Jean Barthe\, Oliver Brockhaus\n\n\nAlbert Lavignac (1846-1916): Galop-Marche pour piano 8 mains\n\nHélène Pierrakos\, Marlies Stellmacher\, Jos Schloesser\, Olivier Depreux\n\n\nLa mer (chanson de Charles Trénet)\n\nSylvie Platz\, chant\, Johannes Platz\, alto\, Olivier Depreux\, piano\n\n\nHenry Purcell (1659-1695): extraits de The Fairy Queen\n\nPrélude-Hornpipe-Dance for the fairies-Monkey dance\n\n\n\n  \n\nLES PEINTRES QUI ONT EXPOSE DANS LES CONCERTS DE L’ACADEMIE SONT :\n\nPascale Garcin à Saint-Sauveur \, Noriko Fuse à Treigny \, Hélène et Claude à Saints \, Martine Barthe à Etais \, Eliane Lebaron et Gervaise Massé à Lain\nL’Atelier des Feuilles de Saint-Sauveur expose ce soir les œuvres de:\nAnnette LABATI\, Christiane GODEFROY\, Éliane LE BARON\, Gervaise MASSE\, Jacqueline LEJEUNE\, Jean BOULANGE\, Marie-Claude SZCZUREK\n\n\nLES MUSICIENS QUI ONT PARTICIPE A L’ACADEMIE SONT :\nJane Oldham (Taninges : Haute-Savoie)\, Malina Mantcheva (Cologne-Sofia)\, Johannes et Sylvie Platz (Cologne)\, Anne Habermann (Berlin)\, Bogdan\nNesterenko (Lille)\, Varinka Valenzuela (Lille)\, Julia Bewer (Freiburg-im-Bresgau)\, Joachim\, Samuel et Valentina Fiedler (Hanovre)\, Jean Barthe (Tannay : Nièvre)\, Christian Binde (Cologne)\, Dirk Winkelmann (Bonn)\, Tamara Jacubeit (Hambourg)\, Sophie Rudent (La Ferté-Loupière : Yonne)\, Oliver Brockhaus (Hofheim)\, Marlies Stellmacher (Troisdorf : Cologne)\, Hélène Pierrakos (Paris)\, Jos Schloesser (Cologne)\, Kurt Dutré (Anvers)\, Emmanuelle Delalandre\, Camille Fredon et Marion Raspail (Thury et Sougères en Puisaye)\, Sylvie Berger et Olivier Depreux (Tourcoing)
URL:https://aiepp.fr/agenda/concert-animation/
LOCATION:Église Saint-Julien de Thury\, Thury\, 89520\, France
CATEGORIES:Académie Thury 2025
END:VEVENT
END:VCALENDAR